BEGIN:VCALENDAR
VERSION:2.0
PRODID:-//Merrymeeting Audubon - ECPv6.15.20//NONSGML v1.0//EN
CALSCALE:GREGORIAN
METHOD:PUBLISH
X-WR-CALNAME:Merrymeeting Audubon
X-ORIGINAL-URL:https://merrymeeting.maineaudubon.org
X-WR-CALDESC:Events for Merrymeeting Audubon
REFRESH-INTERVAL;VALUE=DURATION:PT1H
X-Robots-Tag:noindex
X-PUBLISHED-TTL:PT1H
BEGIN:VTIMEZONE
TZID:America/New_York
BEGIN:DAYLIGHT
TZOFFSETFROM:-0500
TZOFFSETTO:-0400
TZNAME:EDT
DTSTART:20180311T070000
END:DAYLIGHT
BEGIN:STANDARD
TZOFFSETFROM:-0400
TZOFFSETTO:-0500
TZNAME:EST
DTSTART:20181104T060000
END:STANDARD
BEGIN:DAYLIGHT
TZOFFSETFROM:-0500
TZOFFSETTO:-0400
TZNAME:EDT
DTSTART:20190310T070000
END:DAYLIGHT
BEGIN:STANDARD
TZOFFSETFROM:-0400
TZOFFSETTO:-0500
TZNAME:EST
DTSTART:20191103T060000
END:STANDARD
BEGIN:DAYLIGHT
TZOFFSETFROM:-0500
TZOFFSETTO:-0400
TZNAME:EDT
DTSTART:20200308T070000
END:DAYLIGHT
BEGIN:STANDARD
TZOFFSETFROM:-0400
TZOFFSETTO:-0500
TZNAME:EST
DTSTART:20201101T060000
END:STANDARD
END:VTIMEZONE
BEGIN:VEVENT
DTSTART;TZID=America/New_York:20190521T080000
DTEND;TZID=America/New_York:20190521T113000
DTSTAMP:20260423T160719
CREATED:20190516T114053Z
LAST-MODIFIED:20190516T114053Z
UID:1864-1558425600-1558438200@merrymeeting.maineaudubon.org
SUMMARY:Field Trip: Bradley Pond\, Topsham
DESCRIPTION:This relatively easy walk passes through a conservation easement surrounding a privately-owned working farm. The easement includes varied habitats. Weâ€™ll focus on migrating land birds: warblers\, flycatchers\, blackbirds\, vireos\, sparrows and an occasional raptor. Meet at Brunswick Hannaford at 7:30 a.m.\, or at the Bradley Pond 2nd parking lot at 8:00 a.m. \nFMI Carol Jack     729-0220
URL:https://merrymeeting.maineaudubon.org/event/field-trip-bradley-pond-topsham/
END:VEVENT
BEGIN:VEVENT
DTSTART;TZID=America/New_York:20190519T070000
DTEND;TZID=America/New_York:20190519T113000
DTSTAMP:20260423T160719
CREATED:20190516T114136Z
LAST-MODIFIED:20190516T114136Z
UID:1866-1558249200-1558265400@merrymeeting.maineaudubon.org
SUMMARY:Field Trip: Brunswick Town Commons\, Brunswick
DESCRIPTION:Celebrate the 300th anniversary of the establishment of the Brunswick Town Commons with a Spring walk on easy paths (up to 3 miles total). We will observe a variety of plants and wildlife\, including migrating songbirds. Meet at Brunswick Town Commons parking area off Harpswell Rd. at 7:00 a.m. \nFMI Gordon Smith at 725-0282.
URL:https://merrymeeting.maineaudubon.org/event/field-trip-brunswick-town-commons-brunswick/
END:VEVENT
BEGIN:VEVENT
DTSTART;TZID=America/New_York:20190518T061500
DTEND;TZID=America/New_York:20190518T130000
DTSTAMP:20260423T160719
CREATED:20190516T114215Z
LAST-MODIFIED:20190516T114224Z
UID:1868-1558160100-1558184400@merrymeeting.maineaudubon.org
SUMMARY:Field Trip: Evergreen Cemetery & Capisic Pond\, Portland
DESCRIPTION:Expect to observe a wide variety of songbirds\, particularly warblers. We hope to observe the rare Orchard Oriole at Capisic Pond. We will walk easy paths (up to 2.5 miles total). Restroom stop before visiting Capisic Pond. Meet at Brunswick Hannaford at 6:15 a.m.\, or at Evergreen Cemetery by the lower ponds at 7:15 a.m. \nFMI Gordon Smith at 725-0282.
URL:https://merrymeeting.maineaudubon.org/event/field-trip-evergreen-cemetery-capisic-pond-portland/
END:VEVENT
END:VCALENDAR